Felt | Verdi |
AlreadyApplied | True |
Aperture | 2.0 |
ApertureValue | 2.0 |
Artist | KJELL_VIKESTAD |
BitsPerSample | 8 |
BlueHue | 0 |
BlueSaturation | 0 |
Brightness | +50 |
By-line | KJELL_VIKESTAD |
CameraProfile | Embedded |
ChromaticAberrationB | 0 |
ChromaticAberrationR | -25 |
CircleOfConfusion | 0.020 mm |
Clarity | +25 |
ColorComponents | 3 |
ColorMode | RGB |
ColorNoiseReduction | 25 |
ColorSpace | sRGB |
ColorTemperature | 4400 |
Contrast (1) | +25 |
Contrast | High |
ConvertToGrayscale | False |
Copyright | KJELL_VIKESTAD |
CopyrightNotice | KJELL_VIKESTAD |
CreateDate (1) | 2014:07:24 21:22:02+02:00 |
CreateDate | 2014:07:24 21:22:02 |
Creator | KJELL_VIKESTAD |
CreatorTool | Adobe Photoshop CS4 Macintosh |
CustomRendered | Normal |
DateCreated (1) | 2014:07:24 21:22:02+02:00 |
DateCreated | 2014:07:24 |
DateTimeOriginal | 2014:07:24 21:22:02 |
Defringe | 0 |
ExifImageHeight | 3072 |
ExifImageWidth | 4620 |
Exposure | 0.00 |
ExposureCompensation | -1/2 |
ExposureMode | Manual |
ExposureProgram | Not Defined |
ExposureTime | 1/180 |
FillLight | 25 |
Flash | Off, Did not fire |
FNumber | 2.0 |
FocalLength | 18.0 mm |
FocalLength35efl | 18.0 mm (35 mm equivalent: 27.0 mm) |
FocalLengthIn35mmFormat | 27 mm |
Format | image/jpeg |
FOV | 67.4 deg |
GrainAmount | 0 |
GreenHue | 0 |
GreenSaturation | 0 |
HasCrop | False |
HasSettings | True |
HighlightRecovery | 25 |
HueAdjustmentAqua | 0 |
HueAdjustmentBlue | 0 |
HueAdjustmentGreen | 0 |
HueAdjustmentMagenta | 0 |
HueAdjustmentOrange | 0 |
HueAdjustmentPurple | 0 |
HueAdjustmentRed | 0 |
HueAdjustmentYellow | 0 |
HyperfocalDistance | 8.09 m |
ICCProfileName | Adobe RGB (1998) |
ImageHeight | 3072 |
ImageSize | 4620x3072 |
ImageWidth | 4620 |
ISO | 100 |
LensID (1) | 8 31 |
LensID | Sigma 18-35mm F1.8 DC HSM |
LightValue | 9.5 |
LuminanceAdjustmentAqua | 0 |
LuminanceAdjustmentBlue | 0 |
LuminanceAdjustmentGreen | 0 |
LuminanceAdjustmentMagenta | 0 |
LuminanceAdjustmentOrange | 0 |
LuminanceAdjustmentPurple | 0 |
LuminanceAdjustmentRed | 0 |
LuminanceAdjustmentYellow | 0 |
LuminanceSmoothing | 0 |
Make | RICOH IMAGING COMPANY, LTD. |
Megapixels | 14.2 |
MeteringMode | Center-weighted average |
Model | PENTAX K-3 |
ModifyDate (1) | 2014:07:25 16:44:22+02:00 |
ModifyDate | 2014:07:25 16:44:22 |
Orientation | Horizontal (normal) |
ParametricDarks | -15 |
ParametricHighlights | +50 |
ParametricHighlightSplit | 75 |
ParametricLights | +25 |
ParametricMidtoneSplit | 50 |
ParametricShadows | 0 |
ParametricShadowSplit | 25 |
PostCropVignetteAmount | 0 |
ProcessVersion | 5.0 |
ProfileDescription | sRGB IEC61966-2.1 |
Rating | 0 |
RawFileName | _KAV4417.DNG |
RedHue | 0 |
RedSaturation | 0 |
Rights | KJELL_VIKESTAD |
Saturation (1) | +10 |
Saturation | High |
SaturationAdjustmentAqua | 0 |
SaturationAdjustmentBlue | 0 |
SaturationAdjustmentGreen | 0 |
SaturationAdjustmentMagenta | 0 |
SaturationAdjustmentOrange | 0 |
SaturationAdjustmentPurple | 0 |
SaturationAdjustmentRed | 0 |
SaturationAdjustmentYellow | 0 |
ScaleFactor35efl | 1.5 |
SceneCaptureType | Standard |
SensingMethod | One-chip color area |
Shadows | 5 |
ShadowTint | 0 |
SharpenDetail | 25 |
SharpenEdgeMasking | 0 |
SharpenRadius | +1.0 |
Sharpness (1) | 100 |
Sharpness | Hard |
ShutterSpeed | 1/180 |
ShutterSpeedValue | 1/180 |
Software | Adobe Photoshop CS4 Macintosh |
SplitToningBalance | 0 |
SplitToningHighlightHue | 0 |
SplitToningHighlightSaturation | 0 |
SplitToningShadowHue | 0 |
SplitToningShadowSaturation | 0 |
SubjectDistanceRange | Distant |
Tint | -3 |
ToneCurve | 0, 0, 32, 22, 64, 56, 128, 128, 192, 196, 255, 255 |
ToneCurveName | Medium Contrast |
Version | 5.7 |
Vibrance | +50 |
VignetteAmount | 0 |
WhiteBalance (1) | As Shot |
WhiteBalance | Auto |